BEGIN:VCALENDAR
VERSION:2.0
PRODID:-//192.99.84.55//NONSGML kigkonsult.se iCalcreator 2.20//
CALSCALE:GREGORIAN
METHOD:PUBLISH
X-WR-TIMEZONE:UTC
BEGIN:VEVENT
UID:event1125@Congreso 2017
DTSTAMP:20260421T073623Z
CATEGORIES:12. Cuerpo y corporalidades\, Simposio: Corpo\, ciência e tecnol
 ogias de governo
DESCRIPTION:Cuerpos nómadas virtuales. Mas allá de la representaciones y lo
 s imaginarios\; caso facebook\nCategoría: 12. Cuerpo y corporalidades\, Si
 mposio: Corpo\, ciência e tecnologias de governo\nEnlace: https://www.asoc
 iacionlatinoamericanadeantropologia.net/congreso2017/index.php?option=com_
 jem&view=event&id=1125:cuerpos-nomadas-virtuales-mas-alla-de-la-representa
 ciones-y-los-imaginarios-caso-facebook\n
DTSTART:20170606T140000Z
DTEND:20170606T160000Z
LOCATION:Edificio: 02 Salón: 401\,Universidad Javeriana\,Bogotá
SUMMARY:Cuerpos nómadas virtuales. Mas allá de la representaciones y los im
 aginarios\; caso facebook
URL:https://www.asociacionlatinoamericanadeantropologia.net/congreso2017/in
 dex.php?option=com_jem&view=event&id=1125:cuerpos-nomadas-virtuales-mas-al
 la-de-la-representaciones-y-los-imaginarios-caso-facebook
END:VEVENT
END:VCALENDAR
