BEGIN:VCALENDAR
VERSION:2.0
PRODID:-//192.99.84.55//NONSGML kigkonsult.se iCalcreator 2.20//
CALSCALE:GREGORIAN
METHOD:PUBLISH
X-WR-TIMEZONE:UTC
BEGIN:VEVENT
UID:event1124@Congreso 2017
DTSTAMP:20260421T073554Z
CATEGORIES:12. Cuerpo y corporalidades\, Simposio: Corpo\, ciência e tecnol
 ogias de governo
DESCRIPTION:Representações dos Médicos Cardiologistas sobre o Coração e seu
 s Diagnósticos: um estudo etnográfico\nCategoría: 12. Cuerpo y corporalida
 des\, Simposio: Corpo\, ciência e tecnologias de governo\nEnlace: https://
 www.asociacionlatinoamericanadeantropologia.net/congreso2017/index.php?opt
 ion=com_jem&view=event&id=1124:representacoes-dos-medicos-cardiologistas-s
 obre-o-coracao-e-seus-diagnosticos-um-estudo-etnografico\n
DTSTART:20170606T140000Z
DTEND:20170606T160000Z
LOCATION:Edificio: 02 Salón: 401\,Universidad Javeriana\,Bogotá
SUMMARY:Representações dos Médicos Cardiologistas sobre o Coração e seus Di
 agnósticos: um estudo etnográfico
URL:https://www.asociacionlatinoamericanadeantropologia.net/congreso2017/in
 dex.php?option=com_jem&view=event&id=1124:representacoes-dos-medicos-cardi
 ologistas-sobre-o-coracao-e-seus-diagnosticos-um-estudo-etnografico
END:VEVENT
END:VCALENDAR
