BEGIN:VCALENDAR
VERSION:2.0
PRODID:-//192.99.84.55//NONSGML kigkonsult.se iCalcreator 2.20//
CALSCALE:GREGORIAN
METHOD:PUBLISH
X-WR-TIMEZONE:UTC
BEGIN:VEVENT
UID:event1123@Congreso 2017
DTSTAMP:20260421T073554Z
CATEGORIES:12. Cuerpo y corporalidades\, Simposio: Corpo\, ciência e tecnol
 ogias de governo
DESCRIPTION:Rastreando a raça nas narrativas da genética médica\nCategoría:
  12. Cuerpo y corporalidades\, Simposio: Corpo\, ciência e tecnologias de 
 governo\nEnlace: https://www.asociacionlatinoamericanadeantropologia.net/c
 ongreso2017/index.php?option=com_jem&view=event&id=1123:rastreando-a-raca-
 nas-narrativas-da-genetica-medica\n
DTSTART:20170606T140000Z
DTEND:20170606T160000Z
LOCATION:Edificio: 02 Salón: 401\,Universidad Javeriana\,Bogotá
SUMMARY:Rastreando a raça nas narrativas da genética médica
URL:https://www.asociacionlatinoamericanadeantropologia.net/congreso2017/in
 dex.php?option=com_jem&view=event&id=1123:rastreando-a-raca-nas-narrativas
 -da-genetica-medica
END:VEVENT
END:VCALENDAR
