BEGIN:VCALENDAR
VERSION:2.0
PRODID:-//192.99.84.55//NONSGML kigkonsult.se iCalcreator 2.20//
CALSCALE:GREGORIAN
METHOD:PUBLISH
X-WR-TIMEZONE:UTC
BEGIN:VEVENT
UID:event1122@Congreso 2017
DTSTAMP:20260421T073804Z
CATEGORIES:12. Cuerpo y corporalidades\, Simposio: Corpo\, ciência e tecnol
 ogias de governo
DESCRIPTION:Biopolítica de uma “sífilis” hereditária no Sertão Nordestino: 
 resistências à modernidade?\nCategoría: 12. Cuerpo y corporalidades\, Simp
 osio: Corpo\, ciência e tecnologias de governo\nEnlace: https://www.asocia
 cionlatinoamericanadeantropologia.net/congreso2017/index.php?option=com_je
 m&view=event&id=1122:biopolitica-de-uma-sifilis-hereditaria-no-sertao-nord
 estino-resistencias-a-modernidade\n
DTSTART:20170606T140000Z
DTEND:20170606T160000Z
LOCATION:Edificio: 02 Salón: 401\,Universidad Javeriana\,Bogotá
SUMMARY:Biopolítica de uma “sífilis” hereditária no Sertão Nordestino: resi
 stências à modernidade?
URL:https://www.asociacionlatinoamericanadeantropologia.net/congreso2017/in
 dex.php?option=com_jem&view=event&id=1122:biopolitica-de-uma-sifilis-hered
 itaria-no-sertao-nordestino-resistencias-a-modernidade
END:VEVENT
END:VCALENDAR
