BEGIN:VCALENDAR
VERSION:2.0
PRODID:-//192.99.84.55//NONSGML kigkonsult.se iCalcreator 2.20//
CALSCALE:GREGORIAN
METHOD:PUBLISH
X-WR-TIMEZONE:UTC
BEGIN:VEVENT
UID:event1117@Congreso 2017
DTSTAMP:20260421T085202Z
CATEGORIES:12. Cuerpo y corporalidades\, Simposio: Conocimientos\, investig
 ación y prácticas en antropología biológica
DESCRIPTION:Modelos y referencias de crecimiento del cuerpo humano en pobla
 ción venezolana\nCategoría: 12. Cuerpo y corporalidades\, Simposio: Conoci
 mientos\, investigación y prácticas en antropología biológica\nEnlace: htt
 ps://www.asociacionlatinoamericanadeantropologia.net/congreso2017/index.ph
 p?option=com_jem&view=event&id=1117:modelos-y-referencias-de-crecimiento-d
 el-cuerpo-humano-en-poblacion-venezolana\n
DTSTART:20170608T090000Z
DTEND:20170608T160000Z
LOCATION:Edificio: 67 Salón: 410\,Universidad Javeriana\,Bogotá
SUMMARY:Modelos y referencias de crecimiento del cuerpo humano en población
  venezolana
URL:https://www.asociacionlatinoamericanadeantropologia.net/congreso2017/in
 dex.php?option=com_jem&view=event&id=1117:modelos-y-referencias-de-crecimi
 ento-del-cuerpo-humano-en-poblacion-venezolana
END:VEVENT
END:VCALENDAR
