BEGIN:VCALENDAR
VERSION:2.0
PRODID:-//192.99.84.55//NONSGML kigkonsult.se iCalcreator 2.20//
CALSCALE:GREGORIAN
METHOD:PUBLISH
X-WR-TIMEZONE:UTC
BEGIN:VEVENT
UID:event1080@Congreso 2017
DTSTAMP:20260421T125246Z
CATEGORIES:11. Clase\, trabajo y desigualdades sociales\, Simposio: Repensa
 ndo la clase\, retos desde la antropología
DESCRIPTION:Hablar (o no) de clase en Ciudad Verde (Soacha\, Colombia) \nCa
 tegoría: 11. Clase\, trabajo y desigualdades sociales\, Simposio: Repensan
 do la clase\, retos desde la antropología\nEnlace: https://www.asociacionl
 atinoamericanadeantropologia.net/congreso2017/index.php?option=com_jem&vie
 w=event&id=1080:hablar-o-no-de-clase-en-ciudad-verde-soacha-colombia\n
DTSTART:20170606T140000Z
DTEND:20170606T160000Z
LOCATION:Edificio: 02 Salón: 306\,Universidad Javeriana\,Bogotá
SUMMARY:Hablar (o no) de clase en Ciudad Verde (Soacha\, Colombia) 
URL:https://www.asociacionlatinoamericanadeantropologia.net/congreso2017/in
 dex.php?option=com_jem&view=event&id=1080:hablar-o-no-de-clase-en-ciudad-v
 erde-soacha-colombia
END:VEVENT
END:VCALENDAR
