BEGIN:VCALENDAR
VERSION:2.0
PRODID:-//192.99.84.55//NONSGML kigkonsult.se iCalcreator 2.20//
CALSCALE:GREGORIAN
METHOD:PUBLISH
X-WR-TIMEZONE:UTC
BEGIN:VEVENT
UID:event1035@Congreso 2017
DTSTAMP:20260421T071443Z
CATEGORIES:10. Violencia\, guerra y transiciones\, Simposio: Sujetos políti
 cos emergentes en el post acuerdo: miradas sobre una transición histórica 
 y 
DESCRIPTION:Sujetos políticos emergentes y consciencia social en el Post Ac
 uerdo\nCategoría: 10. Violencia\, guerra y transiciones\, Simposio: Sujeto
 s políticos emergentes en el post acuerdo: miradas sobre una transición hi
 stórica y \nEnlace: https://www.asociacionlatinoamericanadeantropologia.ne
 t/congreso2017/index.php?option=com_jem&view=event&id=1035:sujetos-politic
 os-emergentes-y-consciencia-social-en-el-post-acuerdo\n
DTSTART:20170607T090000Z
DTEND:20170607T110000Z
LOCATION:Edificio: 67 Salón: 503\,Universidad Javeriana\,Bogotá
SUMMARY:Sujetos políticos emergentes y consciencia social en el Post Acuerd
 o
URL:https://www.asociacionlatinoamericanadeantropologia.net/congreso2017/in
 dex.php?option=com_jem&view=event&id=1035:sujetos-politicos-emergentes-y-c
 onsciencia-social-en-el-post-acuerdo
END:VEVENT
END:VCALENDAR
