BEGIN:VCALENDAR
VERSION:2.0
PRODID:-//192.99.84.55//NONSGML kigkonsult.se iCalcreator 2.20//
CALSCALE:GREGORIAN
METHOD:PUBLISH
X-WR-TIMEZONE:UTC
BEGIN:VEVENT
UID:event1032@Congreso 2017
DTSTAMP:20260421T065714Z
CATEGORIES:10. Violencia\, guerra y transiciones\, Simposio: Sujetos políti
 cos emergentes en el post acuerdo: miradas sobre una transición histórica 
 y 
DESCRIPTION:Iluminar la sombra\nCategoría: 10. Violencia\, guerra y transic
 iones\, Simposio: Sujetos políticos emergentes en el post acuerdo: miradas
  sobre una transición histórica y \nEnlace: https://www.asociacionlatinoam
 ericanadeantropologia.net/congreso2017/index.php?option=com_jem&view=event
 &id=1032:iluminar-la-sombra\n
DTSTART:20170606T160000Z
DTEND:20170606T180000Z
LOCATION:Edificio: 67 Salón: 503\,Universidad Javeriana\,Bogotá
SUMMARY:Iluminar la sombra
URL:https://www.asociacionlatinoamericanadeantropologia.net/congreso2017/in
 dex.php?option=com_jem&view=event&id=1032:iluminar-la-sombra
END:VEVENT
END:VCALENDAR
