BEGIN:VCALENDAR
VERSION:2.0
PRODID:-//192.99.84.55//NONSGML kigkonsult.se iCalcreator 2.20//
CALSCALE:GREGORIAN
METHOD:PUBLISH
X-WR-TIMEZONE:UTC
BEGIN:VEVENT
UID:event1023@Congreso 2017
DTSTAMP:20260421T071636Z
CATEGORIES:10. Violencia\, guerra y transiciones\, Simposio: Sujetos en tra
 nsición: Configuraciones morales en la construcción social del territorio
DESCRIPTION:“En la guerra ya todo es normal\, pero en Bogotá hacer la vida 
 es sufrimiento” . ¿Sujetos en transición\, territorios sin transiciones?\n
 Categoría: 10. Violencia\, guerra y transiciones\, Simposio: Sujetos en tr
 ansición: Configuraciones morales en la construcción social del territorio
 \nEnlace: https://www.asociacionlatinoamericanadeantropologia.net/congreso
 2017/index.php?option=com_jem&view=event&id=1023:en-la-guerra-ya-todo-es-n
 ormal-pero-en-bogota-hacer-la-vida-es-sufrimiento-sujetos-en-transicion-te
 rritorios-sin-transiciones\n
DTSTART:20170606T140000Z
DTEND:20170606T160000Z
LOCATION:Edificio: 02 Salón: 307\,Universidad Javeriana\,Salón: 307 Bogotá
SUMMARY:“En la guerra ya todo es normal\, pero en Bogotá hacer la vida es s
 ufrimiento” . ¿Sujetos en transición\, territorios sin transiciones?
URL:https://www.asociacionlatinoamericanadeantropologia.net/congreso2017/in
 dex.php?option=com_jem&view=event&id=1023:en-la-guerra-ya-todo-es-normal-p
 ero-en-bogota-hacer-la-vida-es-sufrimiento-sujetos-en-transicion-territori
 os-sin-transiciones
END:VEVENT
END:VCALENDAR
