BEGIN:VCALENDAR
VERSION:2.0
PRODID:-//192.99.84.55//NONSGML kigkonsult.se iCalcreator 2.20//
CALSCALE:GREGORIAN
METHOD:PUBLISH
X-WR-TIMEZONE:UTC
BEGIN:VEVENT
UID:event999@Congreso 2017
DTSTAMP:20260421T034221Z
CATEGORIES:10. Violencia\, guerra y transiciones\, Simposio: La búsqueda de
  la verdad en contextos de impunidad persistente
DESCRIPTION:Antígonas\, tribunal de mujeres. Memoria del conflicto armado c
 olombiano a través de la 'creación colectiva' en el teatro colombiano \nCa
 tegoría: 10. Violencia\, guerra y transiciones\, Simposio: La búsqueda de 
 la verdad en contextos de impunidad persistente\nEnlace: https://www.asoci
 acionlatinoamericanadeantropologia.net/congreso2017/index.php?option=com_j
 em&view=event&id=999:antigonas-tribunal-de-mujeres-memoria-del-conflicto-a
 rmado-colombiano-a-traves-de-la-creacion-colectiva-en-el-teatro-colombiano
 \n
DTSTART:20170606T160000Z
DTEND:20170606T180000Z
LOCATION:Edificio: 02 Salón: 002\,Universidad Javeriana\,Bogotá
SUMMARY:Antígonas\, tribunal de mujeres. Memoria del conflicto armado colom
 biano a través de la 'creación colectiva' en el teatro colombiano 
URL:https://www.asociacionlatinoamericanadeantropologia.net/congreso2017/in
 dex.php?option=com_jem&view=event&id=999:antigonas-tribunal-de-mujeres-mem
 oria-del-conflicto-armado-colombiano-a-traves-de-la-creacion-colectiva-en-
 el-teatro-colombiano
END:VEVENT
END:VCALENDAR
