BEGIN:VCALENDAR
VERSION:2.0
PRODID:-//192.99.84.55//NONSGML kigkonsult.se iCalcreator 2.20//
CALSCALE:GREGORIAN
METHOD:PUBLISH
X-WR-TIMEZONE:UTC
BEGIN:VEVENT
UID:event998@Congreso 2017
DTSTAMP:20260421T033611Z
CATEGORIES:10. Violencia\, guerra y transiciones\, Simposio: La búsqueda de
  la verdad en contextos de impunidad persistente
DESCRIPTION:Buscar la verdad y renunciar a la justicia: dilemas frente a la
  impunidad en México\nCategoría: 10. Violencia\, guerra y transiciones\, S
 imposio: La búsqueda de la verdad en contextos de impunidad persistente\nE
 nlace: https://www.asociacionlatinoamericanadeantropologia.net/congreso201
 7/index.php?option=com_jem&view=event&id=998:buscar-la-verdad-y-renunciar-
 a-la-justicia-dilemas-frente-a-la-impunidad-en-mexico\n
DTSTART:20170606T160000Z
DTEND:20170606T180000Z
LOCATION:Edificio: 02 Salón: 002\,Universidad Javeriana\,Bogotá
SUMMARY:Buscar la verdad y renunciar a la justicia: dilemas frente a la imp
 unidad en México
URL:https://www.asociacionlatinoamericanadeantropologia.net/congreso2017/in
 dex.php?option=com_jem&view=event&id=998:buscar-la-verdad-y-renunciar-a-la
 -justicia-dilemas-frente-a-la-impunidad-en-mexico
END:VEVENT
END:VCALENDAR
