BEGIN:VCALENDAR
VERSION:2.0
PRODID:-//192.99.84.55//NONSGML kigkonsult.se iCalcreator 2.20//
CALSCALE:GREGORIAN
METHOD:PUBLISH
X-WR-TIMEZONE:UTC
BEGIN:VEVENT
UID:event997@Congreso 2017
DTSTAMP:20260421T034127Z
CATEGORIES:10. Violencia\, guerra y transiciones\, Simposio: La búsqueda de
  la verdad en contextos de impunidad persistente
DESCRIPTION:La búsqueda\, identificación y restitución de cuerpos como medi
 das de reparación a las víctimas del conflicto armado en Colombia \nCatego
 ría: 10. Violencia\, guerra y transiciones\, Simposio: La búsqueda de la v
 erdad en contextos de impunidad persistente\nEnlace: https://www.asociacio
 nlatinoamericanadeantropologia.net/congreso2017/index.php?option=com_jem&v
 iew=event&id=997:la-busqueda-identificacion-y-restitucion-de-cuerpos-como-
 medidas-de-reparacion-a-las-victimas-del-conflicto-armado-en-colombia\n
DTSTART:20170606T140000Z
DTEND:20170606T160000Z
LOCATION:Edificio: 02 Salón: 002\,Universidad Javeriana\,Bogotá
SUMMARY:La búsqueda\, identificación y restitución de cuerpos como medidas 
 de reparación a las víctimas del conflicto armado en Colombia 
URL:https://www.asociacionlatinoamericanadeantropologia.net/congreso2017/in
 dex.php?option=com_jem&view=event&id=997:la-busqueda-identificacion-y-rest
 itucion-de-cuerpos-como-medidas-de-reparacion-a-las-victimas-del-conflicto
 -armado-en-colombia
END:VEVENT
END:VCALENDAR
