BEGIN:VCALENDAR
VERSION:2.0
PRODID:-//192.99.84.55//NONSGML kigkonsult.se iCalcreator 2.20//
CALSCALE:GREGORIAN
METHOD:PUBLISH
X-WR-TIMEZONE:UTC
BEGIN:VEVENT
UID:event996@Congreso 2017
DTSTAMP:20260421T033439Z
CATEGORIES:10. Violencia\, guerra y transiciones\, Simposio: La búsqueda de
  la verdad en contextos de impunidad persistente
DESCRIPTION:La búsqueda de la verdad y las políticas del silencio en la Esp
 aña contemporánea \nCategoría: 10. Violencia\, guerra y transiciones\, Sim
 posio: La búsqueda de la verdad en contextos de impunidad persistente\nEnl
 ace: https://www.asociacionlatinoamericanadeantropologia.net/congreso2017/
 index.php?option=com_jem&view=event&id=996:la-busqueda-de-la-verdad-y-las-
 politicas-del-silencio-en-la-espana-contemporanea\n
DTSTART:20170606T140000Z
DTEND:20170606T160000Z
LOCATION:Edificio: 02 Salón: 002\,Universidad Javeriana\,Bogotá
SUMMARY:La búsqueda de la verdad y las políticas del silencio en la España 
 contemporánea 
URL:https://www.asociacionlatinoamericanadeantropologia.net/congreso2017/in
 dex.php?option=com_jem&view=event&id=996:la-busqueda-de-la-verdad-y-las-po
 liticas-del-silencio-en-la-espana-contemporanea
END:VEVENT
END:VCALENDAR
