BEGIN:VCALENDAR
VERSION:2.0
PRODID:-//192.99.84.55//NONSGML kigkonsult.se iCalcreator 2.20//
CALSCALE:GREGORIAN
METHOD:PUBLISH
X-WR-TIMEZONE:UTC
BEGIN:VEVENT
UID:event995@Congreso 2017
DTSTAMP:20260421T033338Z
CATEGORIES:10. Violencia\, guerra y transiciones\, Simposio: La búsqueda de
  la verdad en contextos de impunidad persistente
DESCRIPTION:Derecho a la verdad\, verdad(es) a través de los derechos: la i
 mpunidad de los crímenes de masa y la justicia transicional \nCategoría: 1
 0. Violencia\, guerra y transiciones\, Simposio: La búsqueda de la verdad 
 en contextos de impunidad persistente\nEnlace: https://www.asociacionlatin
 oamericanadeantropologia.net/congreso2017/index.php?option=com_jem&view=ev
 ent&id=995:derecho-a-la-verdad-verdad-es-a-traves-de-los-derechos-la-impun
 idad-de-los-crimenes-de-masa-y-la-justicia-transicional\n
DTSTART:20170606T140000Z
DTEND:20170606T160000Z
LOCATION:Edificio: 02 Salón: 002\,Universidad Javeriana\,Bogotá
SUMMARY:Derecho a la verdad\, verdad(es) a través de los derechos: la impun
 idad de los crímenes de masa y la justicia transicional 
URL:https://www.asociacionlatinoamericanadeantropologia.net/congreso2017/in
 dex.php?option=com_jem&view=event&id=995:derecho-a-la-verdad-verdad-es-a-t
 raves-de-los-derechos-la-impunidad-de-los-crimenes-de-masa-y-la-justicia-t
 ransicional
END:VEVENT
END:VCALENDAR
