BEGIN:VCALENDAR
VERSION:2.0
PRODID:-//192.99.84.55//NONSGML kigkonsult.se iCalcreator 2.20//
CALSCALE:GREGORIAN
METHOD:PUBLISH
X-WR-TIMEZONE:UTC
BEGIN:VEVENT
UID:event950@Congreso 2017
DTSTAMP:20260421T034102Z
CATEGORIES:10. Violencia\, guerra y transiciones\, Simposio: El pasado como
  materialidad política
DESCRIPTION:Permanencias de la tierra: violencia\, tiempo y ética en confli
 ctos territoriales en Paraná\, Brasil\nCategoría: 10. Violencia\, guerra y
  transiciones\, Simposio: El pasado como materialidad política\nEnlace: ht
 tps://www.asociacionlatinoamericanadeantropologia.net/congreso2017/index.p
 hp?option=com_jem&view=event&id=950:permanencias-de-la-tierra-violencia-ti
 empo-y-etica-en-conflictos-territoriales-en-parana-brasil\n
DTSTART:20170607T140000Z
DTEND:20170607T160000Z
LOCATION:Edificio: 02 Salón: 207\,Universidad Javeriana\,Bogotá
SUMMARY:Permanencias de la tierra: violencia\, tiempo y ética en conflictos
  territoriales en Paraná\, Brasil
URL:https://www.asociacionlatinoamericanadeantropologia.net/congreso2017/in
 dex.php?option=com_jem&view=event&id=950:permanencias-de-la-tierra-violenc
 ia-tiempo-y-etica-en-conflictos-territoriales-en-parana-brasil
END:VEVENT
END:VCALENDAR
