BEGIN:VCALENDAR
VERSION:2.0
PRODID:-//192.99.84.55//NONSGML kigkonsult.se iCalcreator 2.20//
CALSCALE:GREGORIAN
METHOD:PUBLISH
X-WR-TIMEZONE:UTC
BEGIN:VEVENT
UID:event949@Congreso 2017
DTSTAMP:20260421T033501Z
CATEGORIES:10. Violencia\, guerra y transiciones\, Simposio: El pasado como
  materialidad política
DESCRIPTION:Promesas pasadas\, despojos presentes. Reflexiones sobre proces
 os y proyectos político-territoriales de disciplinamiento en Puerto Patria
 da\, El Hoyo (Chubut\, Argentina) \nCategoría: 10. Violencia\, guerra y tr
 ansiciones\, Simposio: El pasado como materialidad política\nEnlace: https
 ://www.asociacionlatinoamericanadeantropologia.net/congreso2017/index.php?
 option=com_jem&view=event&id=949:promesas-pasadas-despojos-presentes-refle
 xiones-sobre-procesos-y-proyectos-politico-territoriales-de-disciplinamien
 to-en-puerto-patriada-el-hoyo-chubut-argentina\n
DTSTART:20170607T140000Z
DTEND:20170607T160000Z
LOCATION:Edificio: 02 Salón: 207\,Universidad Javeriana\,Bogotá
SUMMARY:Promesas pasadas\, despojos presentes. Reflexiones sobre procesos y
  proyectos político-territoriales de disciplinamiento en Puerto Patriada\,
  El Hoyo (Chubut\, Argentina) 
URL:https://www.asociacionlatinoamericanadeantropologia.net/congreso2017/in
 dex.php?option=com_jem&view=event&id=949:promesas-pasadas-despojos-present
 es-reflexiones-sobre-procesos-y-proyectos-politico-territoriales-de-discip
 linamiento-en-puerto-patriada-el-hoyo-chubut-argentina
END:VEVENT
END:VCALENDAR
