BEGIN:VCALENDAR
VERSION:2.0
PRODID:-//192.99.84.55//NONSGML kigkonsult.se iCalcreator 2.20//
CALSCALE:GREGORIAN
METHOD:PUBLISH
X-WR-TIMEZONE:UTC
BEGIN:VEVENT
UID:event946@Congreso 2017
DTSTAMP:20260421T034203Z
CATEGORIES:10. Violencia\, guerra y transiciones\, Simposio: El pasado como
  materialidad política
DESCRIPTION:Entre el rio\, la vía y las ruinas: La política y la materialid
 ad del tiempo en un proyecto de ingeniería en los andes peruanos\nCategorí
 a: 10. Violencia\, guerra y transiciones\, Simposio: El pasado como materi
 alidad política\nEnlace: https://www.asociacionlatinoamericanadeantropolog
 ia.net/congreso2017/index.php?option=com_jem&view=event&id=946:entre-el-ri
 o-la-via-y-las-ruinas-la-politica-y-la-materialidad-del-tiempo-en-un-proye
 cto-de-ingenieria-en-los-andes-peruanos\n
DTSTART:20170607T110000Z
DTEND:20170607T130000Z
LOCATION:Edificio: 02 Salón: 207\,Universidad Javeriana\,Bogotá
SUMMARY:Entre el rio\, la vía y las ruinas: La política y la materialidad d
 el tiempo en un proyecto de ingeniería en los andes peruanos
URL:https://www.asociacionlatinoamericanadeantropologia.net/congreso2017/in
 dex.php?option=com_jem&view=event&id=946:entre-el-rio-la-via-y-las-ruinas-
 la-politica-y-la-materialidad-del-tiempo-en-un-proyecto-de-ingenieria-en-l
 os-andes-peruanos
END:VEVENT
END:VCALENDAR
