BEGIN:VCALENDAR
VERSION:2.0
PRODID:-//192.99.84.55//NONSGML kigkonsult.se iCalcreator 2.20//
CALSCALE:GREGORIAN
METHOD:PUBLISH
X-WR-TIMEZONE:UTC
BEGIN:VEVENT
UID:event943@Congreso 2017
DTSTAMP:20260421T034102Z
CATEGORIES:10. Violencia\, guerra y transiciones\, Simposio: El pasado como
  materialidad política
DESCRIPTION:La palabra de los nietos: un estudio sobre construcción de sí\,
  memoria familiar y acción política \nCategoría: 10. Violencia\, guerra y 
 transiciones\, Simposio: El pasado como materialidad política\nEnlace: htt
 ps://www.asociacionlatinoamericanadeantropologia.net/congreso2017/index.ph
 p?option=com_jem&view=event&id=943:la-palabra-de-los-nietos-un-estudio-sob
 re-construccion-de-si-memoria-familiar-y-accion-politica\n
DTSTART:20170607T090000Z
DTEND:20170607T110000Z
LOCATION:Edificio: 02 Salón: 207\,Universidad Javeriana\,Bogotá
SUMMARY:La palabra de los nietos: un estudio sobre construcción de sí\, mem
 oria familiar y acción política 
URL:https://www.asociacionlatinoamericanadeantropologia.net/congreso2017/in
 dex.php?option=com_jem&view=event&id=943:la-palabra-de-los-nietos-un-estud
 io-sobre-construccion-de-si-memoria-familiar-y-accion-politica
END:VEVENT
END:VCALENDAR
