BEGIN:VCALENDAR
VERSION:2.0
PRODID:-//192.99.84.55//NONSGML kigkonsult.se iCalcreator 2.20//
CALSCALE:GREGORIAN
METHOD:PUBLISH
X-WR-TIMEZONE:UTC
BEGIN:VEVENT
UID:event941@Congreso 2017
DTSTAMP:20260421T034104Z
CATEGORIES:10. Violencia\, guerra y transiciones\, Simposio: El pasado como
  materialidad política
DESCRIPTION:Duelo Subjuntivo\, Ruinas de Atrocidad\, y Sujetos “post-confli
 cto” en el Perú neoliberal\nCategoría: 10. Violencia\, guerra y transicion
 es\, Simposio: El pasado como materialidad política\nEnlace: https://www.a
 sociacionlatinoamericanadeantropologia.net/congreso2017/index.php?option=c
 om_jem&view=event&id=941:duelo-subjuntivo-ruinas-de-atrocidad-y-sujetos-po
 st-conflicto-en-el-peru-neoliberal\n
DTSTART:20170607T090000Z
DTEND:20170607T110000Z
LOCATION:Edificio: 02 Salón: 207\,Universidad Javeriana\,Bogotá
SUMMARY:Duelo Subjuntivo\, Ruinas de Atrocidad\, y Sujetos “post-conflicto”
  en el Perú neoliberal
URL:https://www.asociacionlatinoamericanadeantropologia.net/congreso2017/in
 dex.php?option=com_jem&view=event&id=941:duelo-subjuntivo-ruinas-de-atroci
 dad-y-sujetos-post-conflicto-en-el-peru-neoliberal
END:VEVENT
END:VCALENDAR
