BEGIN:VCALENDAR
VERSION:2.0
PRODID:-//192.99.84.55//NONSGML kigkonsult.se iCalcreator 2.20//
CALSCALE:GREGORIAN
METHOD:PUBLISH
X-WR-TIMEZONE:UTC
BEGIN:VEVENT
UID:event90@Congreso 2017
DTSTAMP:20260420T235854Z
CATEGORIES:1. Geopolíticas del conocimiento y antropologías del sur\, Simpo
 sio: promovido por el comité académico del congreso. Aproximaciones antrop
 ológicas de/desde Cen
DESCRIPTION:Antropología Médica en Centroamérica: Su historia\, diálogos ac
 tuales y perspectivas futuras\nCategoría: 1. Geopolíticas del conocimiento
  y antropologías del sur\, Simposio: promovido por el comité académico del
  congreso. Aproximaciones antropológicas de/desde Cen\nEnlace: https://www
 .asociacionlatinoamericanadeantropologia.net/congreso2017/index.php?option
 =com_jem&view=event&id=90:antropologia-medica-en-centroamerica-su-historia
 -dialogos-actuales-y-perspectivas-futuras\n
DTSTART:20170609T090000Z
DTEND:20170609T110000Z
LOCATION:Edificio: 02 Salón: 402\,Universidad Javeriana\,Bogotá
SUMMARY:Antropología Médica en Centroamérica: Su historia\, diálogos actual
 es y perspectivas futuras
URL:https://www.asociacionlatinoamericanadeantropologia.net/congreso2017/in
 dex.php?option=com_jem&view=event&id=90:antropologia-medica-en-centroameri
 ca-su-historia-dialogos-actuales-y-perspectivas-futuras
END:VEVENT
END:VCALENDAR
