BEGIN:VCALENDAR
VERSION:2.0
PRODID:-//192.99.84.55//NONSGML kigkonsult.se iCalcreator 2.20//
CALSCALE:GREGORIAN
METHOD:PUBLISH
X-WR-TIMEZONE:UTC
BEGIN:VEVENT
UID:event8@Congreso 2017
DTSTAMP:20260420T235534Z
CATEGORIES:1. Geopolíticas del conocimiento y antropologías del sur\, Simpo
 sio: Antropología de la biopolítica y de construcciones etnográficas (pos)
  coloniales. Lecturas
DESCRIPTION:Simposio: Antropología de la biopolítica y de construcciones et
 nográficas (pos) coloniales. Lecturas epistemológicas y metodológicas\nCat
 egoría: 1. Geopolíticas del conocimiento y antropologías del sur\, Simposi
 o: Antropología de la biopolítica y de construcciones etnográficas (pos) c
 oloniales. Lecturas\nEnlace: https://www.asociacionlatinoamericanadeantrop
 ologia.net/congreso2017/index.php?option=com_jem&view=event&id=8:simposio-
 antropologia-de-la-biopolitica-y-de-construcciones-etnograficas-pos-coloni
 ales-lecturas-epistemologicas-y-metodologicas\n
DTSTART:20170608T090000Z
DTEND:20170608T160000Z
LOCATION:Edificio: 02 Salón: 001\,Universidad Javeriana\,Bogotá
SUMMARY:Simposio: Antropología de la biopolítica y de construcciones etnogr
 áficas (pos) coloniales. Lecturas epistemológicas y metodológicas
URL:https://www.asociacionlatinoamericanadeantropologia.net/congreso2017/in
 dex.php?option=com_jem&view=event&id=8:simposio-antropologia-de-la-biopoli
 tica-y-de-construcciones-etnograficas-pos-coloniales-lecturas-epistemologi
 cas-y-metodologicas
END:VEVENT
END:VCALENDAR
