BEGIN:VCALENDAR
VERSION:2.0
PRODID:-//192.99.84.55//NONSGML kigkonsult.se iCalcreator 2.20//
CALSCALE:GREGORIAN
METHOD:PUBLISH
X-WR-TIMEZONE:UTC
BEGIN:VEVENT
UID:event689@Congreso 2017
DTSTAMP:20260421T033350Z
CATEGORIES:7. Estado\, nación y políticas públicas\, Simposio: Gobierno loc
 al\, poder y diversidad: enfoques etnográficos desde América Latina
DESCRIPTION:Transformaciones en la participación etnopolítica del Área Metr
 opolitana de Buenos Aires.\nCategoría: 7. Estado\, nación y políticas públ
 icas\, Simposio: Gobierno local\, poder y diversidad: enfoques etnográfico
 s desde América Latina\nEnlace: https://www.asociacionlatinoamericanadeant
 ropologia.net/congreso2017/index.php?option=com_jem&view=event&id=689:tran
 sformaciones-en-la-participacion-etnopolitica-del-area-metropolitana-de-bu
 enos-aires\n
DTSTART:20170607T140000Z
DTEND:20170607T160000Z
LOCATION:Edificio: 02 Salón: 305\,Universidad Javeriana\,Bogotá
SUMMARY:Transformaciones en la participación etnopolítica del Área Metropol
 itana de Buenos Aires.
URL:https://www.asociacionlatinoamericanadeantropologia.net/congreso2017/in
 dex.php?option=com_jem&view=event&id=689:transformaciones-en-la-participac
 ion-etnopolitica-del-area-metropolitana-de-buenos-aires
END:VEVENT
END:VCALENDAR
