BEGIN:VCALENDAR
VERSION:2.0
PRODID:-//192.99.84.55//NONSGML kigkonsult.se iCalcreator 2.20//
CALSCALE:GREGORIAN
METHOD:PUBLISH
X-WR-TIMEZONE:UTC
BEGIN:VEVENT
UID:event688@Congreso 2017
DTSTAMP:20260421T034205Z
CATEGORIES:7. Estado\, nación y políticas públicas\, Simposio: Gobierno loc
 al\, poder y diversidad: enfoques etnográficos desde América Latina
DESCRIPTION:Antropología de las prácticas sociopolíticas: agencias locales 
 y limitaciones institucionales en la intervención pública de los territori
 os\nCategoría: 7. Estado\, nación y políticas públicas\, Simposio: Gobiern
 o local\, poder y diversidad: enfoques etnográficos desde América Latina\n
 Enlace: https://www.asociacionlatinoamericanadeantropologia.net/congreso20
 17/index.php?option=com_jem&view=event&id=688:antropologia-de-las-practica
 s-sociopoliticas-agencias-locales-y-limitaciones-institucionales-en-la-int
 ervencion-publica-de-los-territorios\n
DTSTART:20170607T140000Z
DTEND:20170607T160000Z
LOCATION:Edificio: 02 Salón: 305\,Universidad Javeriana\,Bogotá
SUMMARY:Antropología de las prácticas sociopolíticas: agencias locales y li
 mitaciones institucionales en la intervención pública de los territorios
URL:https://www.asociacionlatinoamericanadeantropologia.net/congreso2017/in
 dex.php?option=com_jem&view=event&id=688:antropologia-de-las-practicas-soc
 iopoliticas-agencias-locales-y-limitaciones-institucionales-en-la-interven
 cion-publica-de-los-territorios
END:VEVENT
END:VCALENDAR
