BEGIN:VCALENDAR
VERSION:2.0
PRODID:-//192.99.84.55//NONSGML kigkonsult.se iCalcreator 2.20//
CALSCALE:GREGORIAN
METHOD:PUBLISH
X-WR-TIMEZONE:UTC
BEGIN:VEVENT
UID:event687@Congreso 2017
DTSTAMP:20260421T033611Z
CATEGORIES:7. Estado\, nación y políticas públicas\, Simposio: Gobierno loc
 al\, poder y diversidad: enfoques etnográficos desde América Latina
DESCRIPTION:Sistema de saúde ou sistema da dádiva? Uso político-eleitoral d
 os serviços públicos de saúde na política municipal\nCategoría: 7. Estado\
 , nación y políticas públicas\, Simposio: Gobierno local\, poder y diversi
 dad: enfoques etnográficos desde América Latina\nEnlace: https://www.asoci
 acionlatinoamericanadeantropologia.net/congreso2017/index.php?option=com_j
 em&view=event&id=687:sistema-de-saude-ou-sistema-da-dadiva-uso-politico-el
 eitoral-dos-servicos-publicos-de-saude-na-politica-municipal\n
DTSTART:20170607T140000Z
DTEND:20170607T160000Z
LOCATION:Edificio: 02 Salón: 305\,Universidad Javeriana\,Bogotá
SUMMARY:Sistema de saúde ou sistema da dádiva? Uso político-eleitoral dos s
 erviços públicos de saúde na política municipal
URL:https://www.asociacionlatinoamericanadeantropologia.net/congreso2017/in
 dex.php?option=com_jem&view=event&id=687:sistema-de-saude-ou-sistema-da-da
 diva-uso-politico-eleitoral-dos-servicos-publicos-de-saude-na-politica-mun
 icipal
END:VEVENT
END:VCALENDAR
