BEGIN:VCALENDAR
VERSION:2.0
PRODID:-//192.99.84.55//NONSGML kigkonsult.se iCalcreator 2.20//
CALSCALE:GREGORIAN
METHOD:PUBLISH
X-WR-TIMEZONE:UTC
BEGIN:VEVENT
UID:event686@Congreso 2017
DTSTAMP:20260421T034127Z
CATEGORIES:7. Estado\, nación y políticas públicas\, Simposio: Gobierno loc
 al\, poder y diversidad: enfoques etnográficos desde América Latina
DESCRIPTION:El municipio en contextos interculturales: análisis de política
 s locales que incorporan lo intercultural e indígena en la Araucanía\, Chi
 le\nCategoría: 7. Estado\, nación y políticas públicas\, Simposio: Gobiern
 o local\, poder y diversidad: enfoques etnográficos desde América Latina\n
 Enlace: https://www.asociacionlatinoamericanadeantropologia.net/congreso20
 17/index.php?option=com_jem&view=event&id=686:el-municipio-en-contextos-in
 terculturales-analisis-de-politicas-locales-que-incorporan-lo-intercultura
 l-e-indigena-en-la-araucania-chile\n
DTSTART:20170607T110000Z
DTEND:20170607T130000Z
LOCATION:Edificio: 02 Salón: 305\,Universidad Javeriana\,Bogotá
SUMMARY:El municipio en contextos interculturales: análisis de políticas lo
 cales que incorporan lo intercultural e indígena en la Araucanía\, Chile
URL:https://www.asociacionlatinoamericanadeantropologia.net/congreso2017/in
 dex.php?option=com_jem&view=event&id=686:el-municipio-en-contextos-intercu
 lturales-analisis-de-politicas-locales-que-incorporan-lo-intercultural-e-i
 ndigena-en-la-araucania-chile
END:VEVENT
END:VCALENDAR
