BEGIN:VCALENDAR
VERSION:2.0
PRODID:-//192.99.84.55//NONSGML kigkonsult.se iCalcreator 2.20//
CALSCALE:GREGORIAN
METHOD:PUBLISH
X-WR-TIMEZONE:UTC
BEGIN:VEVENT
UID:event681@Congreso 2017
DTSTAMP:20260421T034303Z
CATEGORIES:7. Estado\, nación y políticas públicas\, Simposio: Gobierno loc
 al\, poder y diversidad: enfoques etnográficos desde América Latina
DESCRIPTION:La relación entre movimiento social (CONAIE) y movimiento polít
 ico (Pachakutik) en cuatro gobiernos locales de la Sierra y Amazonia ecuat
 oriana\nCategoría: 7. Estado\, nación y políticas públicas\, Simposio: Gob
 ierno local\, poder y diversidad: enfoques etnográficos desde América Lati
 na\nEnlace: https://www.asociacionlatinoamericanadeantropologia.net/congre
 so2017/index.php?option=com_jem&view=event&id=681:la-relacion-entre-movimi
 ento-social-conaie-y-movimiento-politico-pachakutik-en-cuatro-gobiernos-lo
 cales-de-la-sierra-y-amazonia-ecuatoriana\n
DTSTART:20170607T090000Z
DTEND:20170607T110000Z
LOCATION:Edificio: 02 Salón: 305\,Universidad Javeriana\,Bogotá
SUMMARY:La relación entre movimiento social (CONAIE) y movimiento político 
 (Pachakutik) en cuatro gobiernos locales de la Sierra y Amazonia ecuatoria
 na
URL:https://www.asociacionlatinoamericanadeantropologia.net/congreso2017/in
 dex.php?option=com_jem&view=event&id=681:la-relacion-entre-movimiento-soci
 al-conaie-y-movimiento-politico-pachakutik-en-cuatro-gobiernos-locales-de-
 la-sierra-y-amazonia-ecuatoriana
END:VEVENT
END:VCALENDAR
