BEGIN:VCALENDAR
VERSION:2.0
PRODID:-//192.99.84.55//NONSGML kigkonsult.se iCalcreator 2.20//
CALSCALE:GREGORIAN
METHOD:PUBLISH
X-WR-TIMEZONE:UTC
BEGIN:VEVENT
UID:event49@Congreso 2017
DTSTAMP:20260421T033236Z
CATEGORIES:5. Problematizaciones y límites de la cultura\, Mesa de trabajo:
  Aspectos sociales y culturales de la producción y el consumo 
DESCRIPTION:Mesa de trabajo: Aspectos sociales y culturales de la producció
 n y el consumo \nCategoría: 5. Problematizaciones y límites de la cultura\
 , Mesa de trabajo: Aspectos sociales y culturales de la producción y el co
 nsumo \nEnlace: https://www.asociacionlatinoamericanadeantropologia.net/co
 ngreso2017/index.php?option=com_jem&view=event&id=49:mesa-de-trabajo-aspec
 tos-sociales-y-culturales-de-la-produccion-y-el-consumo\n
DTSTART:20170608T160000Z
DTEND:20170608T180000Z
LOCATION:Edificio: 02 Salón: 401\,Universidad Javeriana\,Bogotá
SUMMARY:Mesa de trabajo: Aspectos sociales y culturales de la producción y 
 el consumo 
URL:https://www.asociacionlatinoamericanadeantropologia.net/congreso2017/in
 dex.php?option=com_jem&view=event&id=49:mesa-de-trabajo-aspectos-sociales-
 y-culturales-de-la-produccion-y-el-consumo
END:VEVENT
END:VCALENDAR
