BEGIN:VCALENDAR
VERSION:2.0
PRODID:-//192.99.84.55//NONSGML kigkonsult.se iCalcreator 2.20//
CALSCALE:GREGORIAN
METHOD:PUBLISH
X-WR-TIMEZONE:UTC
BEGIN:VEVENT
UID:event470@Congreso 2017
DTSTAMP:20260421T031011Z
CATEGORIES:5. Problematizaciones y límites de la cultura\, Simposio: Relaçõ
 es Humano-Animal na Antropologia 
DESCRIPTION:A nova praga do Egito: um mosquito cosmopolita\nCategoría: 5. P
 roblematizaciones y límites de la cultura\, Simposio: Relações Humano-Anim
 al na Antropologia \nEnlace: https://www.asociacionlatinoamericanadeantrop
 ologia.net/congreso2017/index.php?option=com_jem&view=event&id=470:a-nova-
 praga-do-egito-um-mosquito-cosmopolita\n
DTSTART:20170608T140000Z
DTEND:20170608T160000Z
LOCATION:Edificio: 67 Salón: 503\,Universidad Javeriana\,Bogotá
SUMMARY:A nova praga do Egito: um mosquito cosmopolita
URL:https://www.asociacionlatinoamericanadeantropologia.net/congreso2017/in
 dex.php?option=com_jem&view=event&id=470:a-nova-praga-do-egito-um-mosquito
 -cosmopolita
END:VEVENT
END:VCALENDAR
