BEGIN:VCALENDAR
VERSION:2.0
PRODID:-//192.99.84.55//NONSGML kigkonsult.se iCalcreator 2.20//
CALSCALE:GREGORIAN
METHOD:PUBLISH
X-WR-TIMEZONE:UTC
BEGIN:VEVENT
UID:event434@Congreso 2017
DTSTAMP:20260421T014308Z
CATEGORIES:5. Problematizaciones y límites de la cultura\, Simposio: Cosmop
 olíticas americanas: negociando poderes\, construyendo existencias 
DESCRIPTION:Entre seres de piedra e instituciones estatales: Cosmopolítica 
 en Yahualica. \nCategoría: 5. Problematizaciones y límites de la cultura\,
  Simposio: Cosmopolíticas americanas: negociando poderes\, construyendo ex
 istencias \nEnlace: https://www.asociacionlatinoamericanadeantropologia.ne
 t/congreso2017/index.php?option=com_jem&view=event&id=434:entre-seres-de-p
 iedra-e-instituciones-estatales-cosmopolitica-en-yahualica\n
DTSTART:20170606T140000Z
DTEND:20170606T160000Z
LOCATION:Edificio: 02 Salón: 403\,Universidad Javeriana\,Bogotá
SUMMARY:Entre seres de piedra e instituciones estatales: Cosmopolítica en Y
 ahualica. 
URL:https://www.asociacionlatinoamericanadeantropologia.net/congreso2017/in
 dex.php?option=com_jem&view=event&id=434:entre-seres-de-piedra-e-instituci
 ones-estatales-cosmopolitica-en-yahualica
END:VEVENT
END:VCALENDAR
