BEGIN:VCALENDAR
VERSION:2.0
PRODID:-//192.99.84.55//NONSGML kigkonsult.se iCalcreator 2.20//
CALSCALE:GREGORIAN
METHOD:PUBLISH
X-WR-TIMEZONE:UTC
BEGIN:VEVENT
UID:event3@Congreso 2017
DTSTAMP:20260420T235515Z
CATEGORIES:1. Geopolíticas del conocimiento y antropologías del sur\, Simpo
 sio: Antropología de la biopolítica y de construcciones etnográficas (pos)
  coloniales. Lecturas
DESCRIPTION:Reconstrucción de comunidad\, migración femenina Nasa a la ciud
 ad de Bogotá\nCategoría: 1. Geopolíticas del conocimiento y antropologías 
 del sur\, Simposio: Antropología de la biopolítica y de construcciones etn
 ográficas (pos) coloniales. Lecturas\nEnlace: https://www.asociacionlatino
 americanadeantropologia.net/congreso2017/index.php?option=com_jem&view=eve
 nt&id=3:reconstruccion-de-comunidad-migracion-femenina-nasa-a-la-ciudad-de
 -bogota\n
DTSTART:20170608T090000Z
DTEND:20170608T110000Z
LOCATION:Edificio: 02 Salón: 001\,Universidad Javeriana\,Bogotá
SUMMARY:Reconstrucción de comunidad\, migración femenina Nasa a la ciudad d
 e Bogotá
URL:https://www.asociacionlatinoamericanadeantropologia.net/congreso2017/in
 dex.php?option=com_jem&view=event&id=3:reconstruccion-de-comunidad-migraci
 on-femenina-nasa-a-la-ciudad-de-bogota
END:VEVENT
END:VCALENDAR
