BEGIN:VCALENDAR
VERSION:2.0
PRODID:-//192.99.84.55//NONSGML kigkonsult.se iCalcreator 2.20//
CALSCALE:GREGORIAN
METHOD:PUBLISH
X-WR-TIMEZONE:UTC
BEGIN:VEVENT
UID:event204@Congreso 2017
DTSTAMP:20260420T235527Z
CATEGORIES:1. Geopolíticas del conocimiento y antropologías del sur\, Simpo
 sio: Saberes transversales para repensar la modernidad. 
DESCRIPTION:Voz y escritura: una propuesta interseccional desde la fusión d
 e corpo-oralidades	\nCategoría: 1. Geopolíticas del conocimiento y antropol
 ogías del sur\, Simposio: Saberes transversales para repensar la modernida
 d. \nEnlace: https://www.asociacionlatinoamericanadeantropologia.net/congr
 eso2017/index.php?option=com_jem&view=event&id=204:voz-y-escritura-una-pro
 puesta-interseccional-desde-la-fusion-de-corpo-oralidades\n
DTSTART:20170606T160000Z
DTEND:20170606T180000Z
LOCATION:Edificio: 67 Salón: 207\,Universidad Javeriana\,Bogotá
SUMMARY:Voz y escritura: una propuesta interseccional desde la fusión de co
 rpo-oralidades	
URL:https://www.asociacionlatinoamericanadeantropologia.net/congreso2017/in
 dex.php?option=com_jem&view=event&id=204:voz-y-escritura-una-propuesta-int
 erseccional-desde-la-fusion-de-corpo-oralidades
END:VEVENT
END:VCALENDAR
