BEGIN:VCALENDAR
VERSION:2.0
PRODID:-//192.99.84.55//NONSGML kigkonsult.se iCalcreator 2.20//
CALSCALE:GREGORIAN
METHOD:PUBLISH
X-WR-TIMEZONE:UTC
BEGIN:VEVENT
UID:event201@Congreso 2017
DTSTAMP:20260421T073621Z
CATEGORIES:11. Clase\, trabajo y desigualdades sociales\, Simposio: Pasado\
 , presente y futuro de la economía de l@s trabajador@s
DESCRIPTION:Simposio: Pasado\, presente y futuro de la economía de l@s trab
 ajador@s \nCategoría: 11. Clase\, trabajo y desigualdades sociales\, Simpo
 sio: Pasado\, presente y futuro de la economía de l@s trabajador@s\nEnlace
 : https://www.asociacionlatinoamericanadeantropologia.net/congreso2017/ind
 ex.php?option=com_jem&view=event&id=201:simposio-pasado-presente-y-futuro-
 de-la-economia-de-l-s-trabajador-s\n
DTSTART:20170606T140000Z
DTEND:20170607T110000Z
LOCATION:Edificio: 02 Salón: 306\,Universidad Javeriana\,Bogotá
SUMMARY:Simposio: Pasado\, presente y futuro de la economía de l@s trabajad
 or@s 
URL:https://www.asociacionlatinoamericanadeantropologia.net/congreso2017/in
 dex.php?option=com_jem&view=event&id=201:simposio-pasado-presente-y-futuro
 -de-la-economia-de-l-s-trabajador-s
END:VEVENT
END:VCALENDAR
