BEGIN:VCALENDAR
VERSION:2.0
PRODID:-//192.99.84.55//NONSGML kigkonsult.se iCalcreator 2.20//
CALSCALE:GREGORIAN
METHOD:PUBLISH
X-WR-TIMEZONE:UTC
BEGIN:VEVENT
UID:event192@Congreso 2017
DTSTAMP:20260420T233855Z
CATEGORIES:1. Geopolíticas del conocimiento y antropologías del sur\, Simpo
 sio: Saberes transversales para repensar la modernidad. 
DESCRIPTION:Pensar em conjunto: o daime como sujeito de conhecimento	\nCateg
 oría: 1. Geopolíticas del conocimiento y antropologías del sur\, Simposio:
  Saberes transversales para repensar la modernidad. \nEnlace: https://www.
 asociacionlatinoamericanadeantropologia.net/congreso2017/index.php?option=
 com_jem&view=event&id=192:pensar-em-conjunto-o-daime-como-sujeito-de-conhe
 cimento\n
DTSTART:20170606T160000Z
DTEND:20170606T180000Z
LOCATION:Edificio: 67 Salón: 207\,Universidad Javeriana\,Bogotá
SUMMARY:Pensar em conjunto: o daime como sujeito de conhecimento	
URL:https://www.asociacionlatinoamericanadeantropologia.net/congreso2017/in
 dex.php?option=com_jem&view=event&id=192:pensar-em-conjunto-o-daime-como-s
 ujeito-de-conhecimento
END:VEVENT
END:VCALENDAR
