BEGIN:VCALENDAR
VERSION:2.0
PRODID:-//192.99.84.55//NONSGML kigkonsult.se iCalcreator 2.20//
CALSCALE:GREGORIAN
METHOD:PUBLISH
X-WR-TIMEZONE:UTC
BEGIN:VEVENT
UID:event183@Congreso 2017
DTSTAMP:20260421T033023Z
CATEGORIES:10. Violencia\, guerra y transiciones\, Simposio: La búsqueda de
  la verdad en contextos de impunidad persistente
DESCRIPTION:Simposio: La búsqueda de la verdad en contextos de impunidad pe
 rsistente \nCategoría: 10. Violencia\, guerra y transiciones\, Simposio: L
 a búsqueda de la verdad en contextos de impunidad persistente\nEnlace: htt
 ps://www.asociacionlatinoamericanadeantropologia.net/congreso2017/index.ph
 p?option=com_jem&view=event&id=183:simposio-la-busqueda-de-la-verdad-en-co
 ntextos-de-impunidad-persistente\n
DTSTART:20170606T140000Z
DTEND:20170606T180000Z
LOCATION:Edificio: 02 Salón: 002\,Universidad Javeriana\,Bogotá
SUMMARY:Simposio: La búsqueda de la verdad en contextos de impunidad persis
 tente 
URL:https://www.asociacionlatinoamericanadeantropologia.net/congreso2017/in
 dex.php?option=com_jem&view=event&id=183:simposio-la-busqueda-de-la-verdad
 -en-contextos-de-impunidad-persistente
END:VEVENT
END:VCALENDAR
