BEGIN:VCALENDAR
VERSION:2.0
PRODID:-//192.99.84.55//NONSGML kigkonsult.se iCalcreator 2.20//
CALSCALE:GREGORIAN
METHOD:PUBLISH
X-WR-TIMEZONE:UTC
BEGIN:VEVENT
UID:event182@Congreso 2017
DTSTAMP:20260420T235700Z
CATEGORIES:1. Geopolíticas del conocimiento y antropologías del sur\, Simpo
 sio: Miradas a las prácticas antropológicas desde el SurOccidente colombia
 no
DESCRIPTION:Apuntes para pensar la relación entre la lingüística y la antro
 pología en Colombia	\nCategoría: 1. Geopolíticas del conocimiento y antropo
 logías del sur\, Simposio: Miradas a las prácticas antropológicas desde el
  SurOccidente colombiano\nEnlace: https://www.asociacionlatinoamericanadea
 ntropologia.net/congreso2017/index.php?option=com_jem&view=event&id=182:ap
 untes-para-pensar-la-relacion-entre-la-lingueistica-y-la-antropologia-en-c
 olombia\n
DTSTART:20170609T110000Z
DTEND:20170609T130000Z
LOCATION:Edificio: 67 Salón: 411\,Universidad Javeriana\,Salón: 411 Bogotá
SUMMARY:Apuntes para pensar la relación entre la lingüística y la antropolo
 gía en Colombia	
URL:https://www.asociacionlatinoamericanadeantropologia.net/congreso2017/in
 dex.php?option=com_jem&view=event&id=182:apuntes-para-pensar-la-relacion-e
 ntre-la-lingueistica-y-la-antropologia-en-colombia
END:VEVENT
END:VCALENDAR
