BEGIN:VCALENDAR
VERSION:2.0
PRODID:-//192.99.84.55//NONSGML kigkonsult.se iCalcreator 2.20//
CALSCALE:GREGORIAN
METHOD:PUBLISH
X-WR-TIMEZONE:UTC
BEGIN:VEVENT
UID:event177@Congreso 2017
DTSTAMP:20260420T235736Z
CATEGORIES:1. Geopolíticas del conocimiento y antropologías del sur\, Simpo
 sio: Miradas a las prácticas antropológicas desde el SurOccidente colombia
 no
DESCRIPTION:Sentir – Pensar – Sembrar: de cómo la finca se hace un espacio 
 de resiliencia y resistencia para los campesinos en Colombia	\nCategoría: 1
 . Geopolíticas del conocimiento y antropologías del sur\, Simposio: Mirada
 s a las prácticas antropológicas desde el SurOccidente colombiano\nEnlace:
  https://www.asociacionlatinoamericanadeantropologia.net/congreso2017/inde
 x.php?option=com_jem&view=event&id=177:sentir-pensar-sembrar-de-como-la-fi
 nca-se-hace-un-espacio-de-resiliencia-y-resistencia-para-los-campesinos-en
 -colombia\n
DTSTART:20170609T110000Z
DTEND:20170609T130000Z
LOCATION:Edificio: 67 Salón: 411\,Universidad Javeriana\,Salón: 411 Bogotá
SUMMARY:Sentir – Pensar – Sembrar: de cómo la finca se hace un espacio de r
 esiliencia y resistencia para los campesinos en Colombia	
URL:https://www.asociacionlatinoamericanadeantropologia.net/congreso2017/in
 dex.php?option=com_jem&view=event&id=177:sentir-pensar-sembrar-de-como-la-
 finca-se-hace-un-espacio-de-resiliencia-y-resistencia-para-los-campesinos-
 en-colombia
END:VEVENT
END:VCALENDAR
