BEGIN:VCALENDAR
VERSION:2.0
PRODID:-//192.99.84.55//NONSGML kigkonsult.se iCalcreator 2.20//
CALSCALE:GREGORIAN
METHOD:PUBLISH
X-WR-TIMEZONE:UTC
BEGIN:VEVENT
UID:event1720@Congreso 2017
DTSTAMP:20260421T014134Z
CATEGORIES:14. Políticas de la salud\, el bienestar y la enfermedad \, Simp
 osio: Salud y Sociedad
DESCRIPTION:Simposio:  Salud y Sociedad\nCategoría: 14. Políticas de la sal
 ud\, el bienestar y la enfermedad \, Simposio: Salud y Sociedad\nEnlace: h
 ttps://www.asociacionlatinoamericanadeantropologia.net/congreso2017/index.
 php?option=com_jem&view=event&id=1720:simposio-salud-y-sociedad\n
DTSTART:20170606T140000Z
DTEND:20170607T110000Z
LOCATION:Edificio: 02 Salón: 407\,Universidad Javeriana\,Bogotá
SUMMARY:Simposio:  Salud y Sociedad
URL:https://www.asociacionlatinoamericanadeantropologia.net/congreso2017/in
 dex.php?option=com_jem&view=event&id=1720:simposio-salud-y-sociedad
END:VEVENT
END:VCALENDAR
