BEGIN:VCALENDAR
VERSION:2.0
PRODID:-//192.99.84.55//NONSGML kigkonsult.se iCalcreator 2.20//
CALSCALE:GREGORIAN
METHOD:PUBLISH
X-WR-TIMEZONE:UTC
BEGIN:VEVENT
UID:event1690@Congreso 2017
DTSTAMP:20260421T031048Z
CATEGORIES:13. Emociones\, subjetividades e identidades\, ANTROPOLOGÍA EN I
 MÁGENES\, POSTER
DESCRIPTION:La construcción identitaria en adolescentes de El Carrizal\, BC
 S.\nCategoría: 13. Emociones\, subjetividades e identidades\, ANTROPOLOGÍA
  EN IMÁGENES\, POSTER\nEnlace: https://www.asociacionlatinoamericanadeantr
 opologia.net/congreso2017/index.php?option=com_jem&view=event&id=1690:la-c
 onstruccion-identitaria-en-adolescentes-de-el-carrizal-bcs\n
DTSTART:20170609T090000Z
DTEND:20170609T130000Z
LOCATION:Edificio: 02 Salón: 303\,Universidad Javeriana\,Bogotá
SUMMARY:La construcción identitaria en adolescentes de El Carrizal\, BCS.
URL:https://www.asociacionlatinoamericanadeantropologia.net/congreso2017/in
 dex.php?option=com_jem&view=event&id=1690:la-construccion-identitaria-en-a
 dolescentes-de-el-carrizal-bcs
END:VEVENT
END:VCALENDAR
