BEGIN:VCALENDAR
VERSION:2.0
PRODID:-//192.99.84.55//NONSGML kigkonsult.se iCalcreator 2.20//
CALSCALE:GREGORIAN
METHOD:PUBLISH
X-WR-TIMEZONE:UTC
BEGIN:VEVENT
UID:event167@Congreso 2017
DTSTAMP:20260421T033337Z
CATEGORIES:9. Movimientos sociales\, Mesa de trabajo: Reconocimiento políti
 co del sujeto campesino y apuestas territoriales
DESCRIPTION:Mesa de trabajo: Reconocimiento político del sujeto campesino y
  apuestas territoriales \nCategoría: 9. Movimientos sociales\, Mesa de tra
 bajo: Reconocimiento político del sujeto campesino y apuestas territoriale
 s\nEnlace: https://www.asociacionlatinoamericanadeantropologia.net/congres
 o2017/index.php?option=com_jem&view=event&id=167:mesa-de-trabajo-reconocim
 iento-politico-del-sujeto-campesino-y-apuestas-territoriales\n
DTSTART:20170608T160000Z
DTEND:20170608T180000Z
LOCATION:Edificio: 02 Salón: 002\,Universidad Javeriana\,Bogotá
SUMMARY:Mesa de trabajo: Reconocimiento político del sujeto campesino y apu
 estas territoriales 
URL:https://www.asociacionlatinoamericanadeantropologia.net/congreso2017/in
 dex.php?option=com_jem&view=event&id=167:mesa-de-trabajo-reconocimiento-po
 litico-del-sujeto-campesino-y-apuestas-territoriales
END:VEVENT
END:VCALENDAR
