BEGIN:VCALENDAR
VERSION:2.0
PRODID:-//192.99.84.55//NONSGML kigkonsult.se iCalcreator 2.20//
CALSCALE:GREGORIAN
METHOD:PUBLISH
X-WR-TIMEZONE:UTC
BEGIN:VEVENT
UID:event1649@Congreso 2017
DTSTAMP:20260421T012707Z
CATEGORIES:PRESENTACIÓN DE LIBROS Y REVISTAS
DESCRIPTION:Revista Universitas Humanistica\nCategoría: PRESENTACIÓN DE LIB
 ROS Y REVISTAS\nEnlace: https://www.asociacionlatinoamericanadeantropologi
 a.net/congreso2017/index.php?option=com_jem&view=event&id=1649:revista-uni
 versitas-humanistica\n
DTSTART:20170607T170000Z
DTEND:20170607T180000Z
LOCATION:Edificio: 02 Salón: 404\,Universidad Javeriana\,Bogotá
SUMMARY:Revista Universitas Humanistica
URL:https://www.asociacionlatinoamericanadeantropologia.net/congreso2017/in
 dex.php?option=com_jem&view=event&id=1649:revista-universitas-humanistica
END:VEVENT
END:VCALENDAR
