BEGIN:VCALENDAR
VERSION:2.0
PRODID:-//192.99.84.55//NONSGML kigkonsult.se iCalcreator 2.20//
CALSCALE:GREGORIAN
METHOD:PUBLISH
X-WR-TIMEZONE:UTC
BEGIN:VEVENT
UID:event1643@Congreso 2017
DTSTAMP:20260421T012807Z
CATEGORIES:ASAMBLEAS Y REUNIONES
DESCRIPTION:Reunión de Asociaciones de Antropología\nCategoría: ASAMBLEAS Y
  REUNIONES\nEnlace: https://www.asociacionlatinoamericanadeantropologia.ne
 t/congreso2017/index.php?option=com_jem&view=event&id=1643:reunion-de-asoc
 iaciones-de-antropologia\n
DTSTART:20170607T160000Z
DTEND:20170607T180000Z
LOCATION:Edificio: 02 Salón: 305\,Universidad Javeriana\,Bogotá
SUMMARY:Reunión de Asociaciones de Antropología
URL:https://www.asociacionlatinoamericanadeantropologia.net/congreso2017/in
 dex.php?option=com_jem&view=event&id=1643:reunion-de-asociaciones-de-antro
 pologia
END:VEVENT
END:VCALENDAR
