BEGIN:VCALENDAR
VERSION:2.0
PRODID:-//192.99.84.55//NONSGML kigkonsult.se iCalcreator 2.20//
CALSCALE:GREGORIAN
METHOD:PUBLISH
X-WR-TIMEZONE:UTC
BEGIN:VEVENT
UID:event1641@Congreso 2017
DTSTAMP:20260421T014303Z
CATEGORIES:ASAMBLEAS Y REUNIONES
DESCRIPTION:Asamblea Asociación Latinoamerciana de Antropología ALA\nCatego
 ría: ASAMBLEAS Y REUNIONES\nEnlace: https://www.asociacionlatinoamericanad
 eantropologia.net/congreso2017/index.php?option=com_jem&view=event&id=1641
 :asamblea-asociacion-latinoamerciana-de-antropologia-ala\n
DTSTART:20170609T140000Z
DTEND:20170609T160000Z
LOCATION:Auditorio Félix Restrepo\,Universidad Javeriana\,Bogotá
SUMMARY:Asamblea Asociación Latinoamerciana de Antropología ALA
URL:https://www.asociacionlatinoamericanadeantropologia.net/congreso2017/in
 dex.php?option=com_jem&view=event&id=1641:asamblea-asociacion-latinoamerci
 ana-de-antropologia-ala
END:VEVENT
END:VCALENDAR
