BEGIN:VCALENDAR
VERSION:2.0
PRODID:-//192.99.84.55//NONSGML kigkonsult.se iCalcreator 2.20//
CALSCALE:GREGORIAN
METHOD:PUBLISH
X-WR-TIMEZONE:UTC
BEGIN:VEVENT
UID:event164@Congreso 2017
DTSTAMP:20260420T235817Z
CATEGORIES:1. Geopolíticas del conocimiento y antropologías del sur\, Simpo
 sio: Miradas a las prácticas antropológicas desde el SurOccidente colombia
 no
DESCRIPTION:El Instituto Andino de Artes Populares: Una experiencia de inve
 stigación solidaria en el municipio de Pasto	 \nCategoría: 1. Geopolíticas 
 del conocimiento y antropologías del sur\, Simposio: Miradas a las práctic
 as antropológicas desde el SurOccidente colombiano\nEnlace: https://www.as
 ociacionlatinoamericanadeantropologia.net/congreso2017/index.php?option=co
 m_jem&view=event&id=164:el-instituto-andino-de-artes-populares-una-experie
 ncia-de-investigacion-solidaria-en-el-municipio-de-pasto\n
DTSTART:20170609T090000Z
DTEND:20170609T110000Z
LOCATION:Edificio: 67 Salón: 411\,Universidad Javeriana\,Salón: 411 Bogotá
SUMMARY:El Instituto Andino de Artes Populares: Una experiencia de investig
 ación solidaria en el municipio de Pasto	 
URL:https://www.asociacionlatinoamericanadeantropologia.net/congreso2017/in
 dex.php?option=com_jem&view=event&id=164:el-instituto-andino-de-artes-popu
 lares-una-experiencia-de-investigacion-solidaria-en-el-municipio-de-pasto
END:VEVENT
END:VCALENDAR
