BEGIN:VCALENDAR
VERSION:2.0
PRODID:-//192.99.84.55//NONSGML kigkonsult.se iCalcreator 2.20//
CALSCALE:GREGORIAN
METHOD:PUBLISH
X-WR-TIMEZONE:UTC
BEGIN:VEVENT
UID:event161@Congreso 2017
DTSTAMP:20260420T235817Z
CATEGORIES:1. Geopolíticas del conocimiento y antropologías del sur\, Simpo
 sio: Miradas a las prácticas antropológicas desde el SurOccidente colombia
 no
DESCRIPTION:¿Por qué\, para qué\, para quién?: Reflexiones desde y para la 
 investigación de las lenguas minorizadas de los Andes del Cauca\nCategoría
 : 1. Geopolíticas del conocimiento y antropologías del sur\, Simposio: Mir
 adas a las prácticas antropológicas desde el SurOccidente colombiano\nEnla
 ce: https://www.asociacionlatinoamericanadeantropologia.net/congreso2017/i
 ndex.php?option=com_jem&view=event&id=161:por-que-para-que-para-quien-refl
 exiones-desde-y-para-la-investigacion-de-las-lenguas-minorizadas-de-los-an
 des-del-cauca\n
DTSTART:20170609T090000Z
DTEND:20170609T110000Z
LOCATION:Edificio: 67 Salón: 411\,Universidad Javeriana\,Salón: 411 Bogotá
SUMMARY:¿Por qué\, para qué\, para quién?: Reflexiones desde y para la inve
 stigación de las lenguas minorizadas de los Andes del Cauca
URL:https://www.asociacionlatinoamericanadeantropologia.net/congreso2017/in
 dex.php?option=com_jem&view=event&id=161:por-que-para-que-para-quien-refle
 xiones-desde-y-para-la-investigacion-de-las-lenguas-minorizadas-de-los-and
 es-del-cauca
END:VEVENT
END:VCALENDAR
