BEGIN:VCALENDAR
VERSION:2.0
PRODID:-//192.99.84.55//NONSGML kigkonsult.se iCalcreator 2.20//
CALSCALE:GREGORIAN
METHOD:PUBLISH
X-WR-TIMEZONE:UTC
BEGIN:VEVENT
UID:event160@Congreso 2017
DTSTAMP:20260420T235526Z
CATEGORIES:1. Geopolíticas del conocimiento y antropologías del sur\, Simpo
 sio: Miradas a las prácticas antropológicas desde el SurOccidente colombia
 no
DESCRIPTION:Cazadores de mariposas. Imágenes y metáforas de la lingüística 
 de urgencia en la época del multiculturalismo	\nCategoría: 1. Geopolíticas 
 del conocimiento y antropologías del sur\, Simposio: Miradas a las práctic
 as antropológicas desde el SurOccidente colombiano\nEnlace: https://www.as
 ociacionlatinoamericanadeantropologia.net/congreso2017/index.php?option=co
 m_jem&view=event&id=160:cazadores-de-mariposas-imagenes-y-metaforas-de-la-
 lingueistica-de-urgencia-en-la-epoca-del-multiculturalismo\n
DTSTART:20170609T090000Z
DTEND:20170609T110000Z
LOCATION:Edificio: 67 Salón: 411\,Universidad Javeriana\,Salón: 411 Bogotá
SUMMARY:Cazadores de mariposas. Imágenes y metáforas de la lingüística de u
 rgencia en la época del multiculturalismo	
URL:https://www.asociacionlatinoamericanadeantropologia.net/congreso2017/in
 dex.php?option=com_jem&view=event&id=160:cazadores-de-mariposas-imagenes-y
 -metaforas-de-la-lingueistica-de-urgencia-en-la-epoca-del-multiculturalism
 o
END:VEVENT
END:VCALENDAR
