BEGIN:VCALENDAR
VERSION:2.0
PRODID:-//192.99.84.55//NONSGML kigkonsult.se iCalcreator 2.20//
CALSCALE:GREGORIAN
METHOD:PUBLISH
X-WR-TIMEZONE:UTC
BEGIN:VEVENT
UID:event153@Congreso 2017
DTSTAMP:20260420T235647Z
CATEGORIES:1. Geopolíticas del conocimiento y antropologías del sur\, Simpo
 sio: Hacia una etnografía irreverente y comprometida 
DESCRIPTION:Pi køtreyei utø  Chillimal øsikmusik tøka atrun: del agua y el 
 barro\, hacia una reflexión dialógica.\nCategoría: 1. Geopolíticas del con
 ocimiento y antropologías del sur\, Simposio: Hacia una etnografía irrever
 ente y comprometida \nEnlace: https://www.asociacionlatinoamericanadeantro
 pologia.net/congreso2017/index.php?option=com_jem&view=event&id=153:pi-kot
 reyei-uto-chillimal-osikmusik-toka-atrun-del-agua-y-el-barro-hacia-una-ref
 lexion-dialogica\n
DTSTART:20170607T110000Z
DTEND:20170607T130000Z
LOCATION:Edificio: 67 Salón: 212\,Universidad Javeriana\,Bogotá
SUMMARY:Pi køtreyei utø  Chillimal øsikmusik tøka atrun: del agua y el barr
 o\, hacia una reflexión dialógica.
URL:https://www.asociacionlatinoamericanadeantropologia.net/congreso2017/in
 dex.php?option=com_jem&view=event&id=153:pi-kotreyei-uto-chillimal-osikmus
 ik-toka-atrun-del-agua-y-el-barro-hacia-una-reflexion-dialogica
END:VEVENT
END:VCALENDAR
