BEGIN:VCALENDAR
VERSION:2.0
PRODID:-//192.99.84.55//NONSGML kigkonsult.se iCalcreator 2.20//
CALSCALE:GREGORIAN
METHOD:PUBLISH
X-WR-TIMEZONE:UTC
BEGIN:VEVENT
UID:event150@Congreso 2017
DTSTAMP:20260420T235654Z
CATEGORIES:1. Geopolíticas del conocimiento y antropologías del sur\, Simpo
 sio: Hacia una etnografía irreverente y comprometida 
DESCRIPTION:Los mayores\, el pueblo y territorio de Jenoy: una década despu
 és del despertar (Pasto\, Colombia)\nCategoría: 1. Geopolíticas del conoci
 miento y antropologías del sur\, Simposio: Hacia una etnografía irreverent
 e y comprometida \nEnlace: https://www.asociacionlatinoamericanadeantropol
 ogia.net/congreso2017/index.php?option=com_jem&view=event&id=150:los-mayor
 es-el-pueblo-y-territorio-de-jenoy-una-decada-despues-del-despertar-pasto-
 colombia\n
DTSTART:20170607T110000Z
DTEND:20170607T130000Z
LOCATION:Edificio: 67 Salón: 212\,Universidad Javeriana\,Bogotá
SUMMARY:Los mayores\, el pueblo y territorio de Jenoy: una década después d
 el despertar (Pasto\, Colombia)
URL:https://www.asociacionlatinoamericanadeantropologia.net/congreso2017/in
 dex.php?option=com_jem&view=event&id=150:los-mayores-el-pueblo-y-territori
 o-de-jenoy-una-decada-despues-del-despertar-pasto-colombia
END:VEVENT
END:VCALENDAR
