BEGIN:VCALENDAR
VERSION:2.0
PRODID:-//192.99.84.55//NONSGML kigkonsult.se iCalcreator 2.20//
CALSCALE:GREGORIAN
METHOD:PUBLISH
X-WR-TIMEZONE:UTC
BEGIN:VEVENT
UID:event149@Congreso 2017
DTSTAMP:20260420T235526Z
CATEGORIES:1. Geopolíticas del conocimiento y antropologías del sur\, Simpo
 sio: Hacia una etnografía irreverente y comprometida 
DESCRIPTION:La etnografía del ser colectivo. Un acercamiento teórico al tra
 bajo de campo en el sur	\nCategoría: 1. Geopolíticas del conocimiento y ant
 ropologías del sur\, Simposio: Hacia una etnografía irreverente y comprome
 tida \nEnlace: https://www.asociacionlatinoamericanadeantropologia.net/con
 greso2017/index.php?option=com_jem&view=event&id=149:la-etnografia-del-ser
 -colectivo-un-acercamiento-teorico-al-trabajo-de-campo-en-el-sur\n
DTSTART:20170607T090000Z
DTEND:20170607T110000Z
LOCATION:Edificio: 67 Salón: 212\,Universidad Javeriana\,Bogotá
SUMMARY:La etnografía del ser colectivo. Un acercamiento teórico al trabajo
  de campo en el sur	
URL:https://www.asociacionlatinoamericanadeantropologia.net/congreso2017/in
 dex.php?option=com_jem&view=event&id=149:la-etnografia-del-ser-colectivo-u
 n-acercamiento-teorico-al-trabajo-de-campo-en-el-sur
END:VEVENT
END:VCALENDAR
