BEGIN:VCALENDAR
VERSION:2.0
PRODID:-//192.99.84.55//NONSGML kigkonsult.se iCalcreator 2.20//
CALSCALE:GREGORIAN
METHOD:PUBLISH
X-WR-TIMEZONE:UTC
BEGIN:VEVENT
UID:event1476@Congreso 2017
DTSTAMP:20260421T033348Z
CATEGORIES:16. Políticas culturales\, patrimonio y turismo\, Simposio: Mult
 iculturalismos en América Latina hoy
DESCRIPTION:Campesinos\, una construcción de identidad cultural desde el mo
 vimiento agrario en Colombia\nCategoría: 16. Políticas culturales\, patrim
 onio y turismo\, Simposio: Multiculturalismos en América Latina hoy\nEnlac
 e: https://www.asociacionlatinoamericanadeantropologia.net/congreso2017/in
 dex.php?option=com_jem&view=event&id=1476:campesinos-una-construccion-de-i
 dentidad-cultural-desde-el-movimiento-agrario-en-colombia\n
DTSTART:20170606T140000Z
DTEND:20170606T180000Z
LOCATION:Edificio: 02 Salón: 402\,Universidad Javeriana\,Bogotá
SUMMARY:Campesinos\, una construcción de identidad cultural desde el movimi
 ento agrario en Colombia
URL:https://www.asociacionlatinoamericanadeantropologia.net/congreso2017/in
 dex.php?option=com_jem&view=event&id=1476:campesinos-una-construccion-de-i
 dentidad-cultural-desde-el-movimiento-agrario-en-colombia
END:VEVENT
END:VCALENDAR
