BEGIN:VCALENDAR
VERSION:2.0
PRODID:-//192.99.84.55//NONSGML kigkonsult.se iCalcreator 2.20//
CALSCALE:GREGORIAN
METHOD:PUBLISH
X-WR-TIMEZONE:UTC
BEGIN:VEVENT
UID:event1475@Congreso 2017
DTSTAMP:20260421T034129Z
CATEGORIES:16. Políticas culturales\, patrimonio y turismo\, Simposio: Mult
 iculturalismos en América Latina hoy
DESCRIPTION:Entre indígenas y migrantes: los límites del reconocimiento fre
 nte a la migración transnacional indígena en Colombia.\nCategoría: 16. Pol
 íticas culturales\, patrimonio y turismo\, Simposio: Multiculturalismos en
  América Latina hoy\nEnlace: https://www.asociacionlatinoamericanadeantrop
 ologia.net/congreso2017/index.php?option=com_jem&view=event&id=1475:entre-
 indigenas-y-migrantes-los-limites-del-reconocimiento-frente-a-la-migracion
 -transnacional-indigena-en-colombia\n
DTSTART:20170606T140000Z
DTEND:20170606T180000Z
LOCATION:Edificio: 02 Salón: 402\,Universidad Javeriana\,Bogotá
SUMMARY:Entre indígenas y migrantes: los límites del reconocimiento frente 
 a la migración transnacional indígena en Colombia.
URL:https://www.asociacionlatinoamericanadeantropologia.net/congreso2017/in
 dex.php?option=com_jem&view=event&id=1475:entre-indigenas-y-migrantes-los-
 limites-del-reconocimiento-frente-a-la-migracion-transnacional-indigena-en
 -colombia
END:VEVENT
END:VCALENDAR
